BEGIN:VCALENDAR
VERSION:2.0
PRODID:-//Akuna Bay Cruising Club - ECPv6.5.0//NONSGML v1.0//EN
CALSCALE:GREGORIAN
METHOD:PUBLISH
X-WR-CALNAME:Akuna Bay Cruising Club
X-ORIGINAL-URL:https://akunabay.org
X-WR-CALDESC:Events for Akuna Bay Cruising Club
REFRESH-INTERVAL;VALUE=DURATION:PT1H
X-Robots-Tag:noindex
X-PUBLISHED-TTL:PT1H
BEGIN:VTIMEZONE
TZID:UTC
BEGIN:STANDARD
TZOFFSETFROM:+0000
TZOFFSETTO:+0000
TZNAME:UTC
DTSTART:20250101T000000
END:STANDARD
END:VTIMEZONE
BEGIN:VEVENT
DTSTART;TZID=UTC:20251018T120000
DTEND;TZID=UTC:20251019T120000
DTSTAMP:20260419T151621
CREATED:20250808T000837Z
LAST-MODIFIED:20250808T000837Z
UID:1303-1760788800-1760875200@akunabay.org
SUMMARY:Club Raft Up
DESCRIPTION:Our spring raft up will be held on Saturday 18 October at Smiths Creek. \nJoin us from midday for a great weekend on the water.
URL:https://akunabay.org/event/club-raft-up-2/
LOCATION:Smiths Creek\, -33.64112618777545\, 151.21337606880874
ATTACH;FMTTYPE=image/jpeg:https://akunabay.org/wp-content/uploads/2025/08/Raft-Up-copy.jpg
END:VEVENT
END:VCALENDAR