BEGIN:VCALENDAR
VERSION:2.0
PRODID:-//Akuna Bay Cruising Club - ECPv6.5.0//NONSGML v1.0//EN
CALSCALE:GREGORIAN
METHOD:PUBLISH
X-ORIGINAL-URL:https://akunabay.org
X-WR-CALDESC:Events for Akuna Bay Cruising Club
REFRESH-INTERVAL;VALUE=DURATION:PT1H
X-Robots-Tag:noindex
X-PUBLISHED-TTL:PT1H
BEGIN:VTIMEZONE
TZID:UTC
BEGIN:STANDARD
TZOFFSETFROM:+0000
TZOFFSETTO:+0000
TZNAME:UTC
DTSTART:20250101T000000
END:STANDARD
END:VTIMEZONE
BEGIN:VEVENT
DTSTART;TZID=UTC:20250801T180000
DTEND;TZID=UTC:20250801T200000
DTSTAMP:20260419T173849
CREATED:20241007T070029Z
LAST-MODIFIED:20241007T070029Z
UID:918-1754071200-1754078400@akunabay.org
SUMMARY:First Friday - 1 August
DESCRIPTION:Join fellow members at our causal get together on the first Friday of each month! \n6.00pm at the Akuna Bay members’ lounge – BYO everything
URL:https://akunabay.org/event/first-friday-1-august/
LOCATION:Akuna Bay Marina
ATTACH;FMTTYPE=image/jpeg:https://akunabay.org/wp-content/uploads/2024/08/ABCC-FF2.jpg
END:VEVENT
END:VCALENDAR